BEGIN:VCALENDAR
VERSION:2.0
PRODID:-//pretix//pretix.eu//
BEGIN:VTIMEZONE
TZID:Europe/Berlin
BEGIN:STANDARD
DTSTART:20001029T040000
RRULE:FREQ=YEARLY;BYDAY=-1SU;BYMONTH=10
TZNAME:CET
TZOFFSETFROM:+0200
TZOFFSETTO:+0100
END:STANDARD
BEGIN:DAYLIGHT
DTSTART:20000326T030000
RRULE:FREQ=YEARLY;BYDAY=-1SU;BYMONTH=3
TZNAME:CEST
TZOFFSETFROM:+0100
TZOFFSETTO:+0200
END:DAYLIGHT
END:VTIMEZONE
BEGIN:VEVENT
UID:pretix-akv2025-altweiber-0@tickets.akv-altendiez.de
DTSTART;TZID=Europe/Berlin:20260212T161100
DTEND;TZID=Europe/Berlin:20260212T171100
DESCRIPTION:Tickets: https://tickets.akv-altendiez.de/altweiber/\nVeranstal
 ter: Altendiezer Karneval Vereinigung e.V.
DTSTAMP:20260422T133724Z
LOCATION:Lahnblickhalle\, Altendiez
SUMMARY:AKV Altweiberparty 2026
END:VEVENT
END:VCALENDAR
